BEGIN:VCALENDAR
PRODID:-//dvv-bw.de//dvv.Portalplattform//DE
VERSION:2.0
METHOD:PUBLISH
BEGIN:VEVENT
DTSTART:20261008T220000Z
DTEND:20261008T220000Z
DTSTAMP:20260424T060451Z
UID:4512115-4512017-1791496800000
SUMMARY:Saisonabschluss und Helferfest
LOCATION:Tennisanlage, 72348 Rosenfeld, Auf dem Bochinger, 72348 Rosenfeld
DESCRIPTION:Saisonabschluss und Helferfest
CLASS:PUBLIC
X-ALT-DESC;FMTTYPE=text/html:Saisonabschluss und Helferfest
END:VEVENT
END:VCALENDAR
