BEGIN:VCALENDAR
PRODID:-//dvv-bw.de//dvv.Portalplattform//DE
VERSION:2.0
METHOD:PUBLISH
BEGIN:VEVENT
DTSTART:20260501T150000Z
DTEND:20260501T170000Z
DTSTAMP:20260424T162709Z
UID:4512111-4512013-1777586400000
SUMMARY:Saisoneröffnung und Start der Bewirtung
LOCATION:Tennisanlage, 72348 Rosenfeld, Auf dem Bochinger, 72348 Rosenfeld
DESCRIPTION:Saisoneröffnung und Start der Bewirtung
CLASS:PUBLIC
X-ALT-DESC;FMTTYPE=text/html:Saisoneröffnung und Start der Bewirtung
END:VEVENT
END:VCALENDAR
