BEGIN:VCALENDAR
PRODID:-//dvv-bw.de//dvv.Portalplattform//DE
VERSION:2.0
METHOD:PUBLISH
BEGIN:VEVENT
DTSTART:20261206T130000Z
DTEND:20261206T150000Z
DTSTAMP:20260424T174634Z
UID:4368603-2039473-1796511600000
SUMMARY:Seniorenadventsfeier
LOCATION:Evangelisches Gemeindehaus Isingen\, Kirchstraße 15\, 72348 Rosenfeld
DESCRIPTION:Seniorenadventsfeier
CLASS:PUBLIC
X-ALT-DESC;FMTTYPE=text/html:Seniorenadventsfeier
END:VEVENT
END:VCALENDAR
