BEGIN:VCALENDAR
PRODID:-//dvv-bw.de//dvv.Portalplattform//DE
VERSION:2.0
METHOD:PUBLISH
BEGIN:VEVENT
DTSTART:20261230T230000Z
DTEND:20261230T230000Z
DTSTAMP:20260424T072040Z
UID:4505660-4505560-1798671600000
SUMMARY:Silvesterbatschen
LOCATION:Zunftheim Heiligenzimmern, Stunzachweg 3, 72348 Rosenfeld
DESCRIPTION:Silvesterbatschen
CLASS:PUBLIC
X-ALT-DESC;FMTTYPE=text/html:Silvesterbatschen
END:VEVENT
END:VCALENDAR
