BEGIN:VCALENDAR
PRODID:-//dvv-bw.de//dvv.Portalplattform//DE
VERSION:2.0
METHOD:PUBLISH
BEGIN:VEVENT
DTSTART:20261224T090000Z
DTEND:20261224T110000Z
DTSTAMP:20260424T103640Z
UID:4505652-4505552-1798066800000
SUMMARY:Spielen weihnachtlicher Weisen
LOCATION:Stadtgebiet 72348 Rosenfeld
DESCRIPTION:Spielen weihnachtlicher Weisen
CLASS:PUBLIC
X-ALT-DESC;FMTTYPE=text/html:Spielen weihnachtlicher Weisen
END:VEVENT
END:VCALENDAR
