BEGIN:VCALENDAR
PRODID:-//dvv-bw.de//dvv.Portalplattform//DE
VERSION:2.0
METHOD:PUBLISH
BEGIN:VEVENT
DTSTART:20261224T110000Z
DTEND:20261224T130000Z
DTSTAMP:20260424T073533Z
UID:4505653-4505553-1798066800000
SUMMARY:Spielen weihnachtlicher Weisen
LOCATION:72348 Rosenfeld-Heiligenzimmern
DESCRIPTION:Spielen weihnachtlicher Weisen
CLASS:PUBLIC
X-ALT-DESC;FMTTYPE=text/html:Spielen weihnachtlicher Weisen
END:VEVENT
END:VCALENDAR
