BEGIN:VCALENDAR
PRODID:-//dvv-bw.de//dvv.Portalplattform//DE
VERSION:2.0
METHOD:PUBLISH
BEGIN:VEVENT
DTSTART:20261113T230000Z
DTEND:20261113T230000Z
DTSTAMP:20260424T101526Z
UID:4503152-4503052-1794610800000
SUMMARY:Stammesabend
LOCATION:Festhalle Rosenfeld\, Schulstraße 7\, 72348 Rosenfeld
DESCRIPTION:Stammesabend
CLASS:PUBLIC
X-ALT-DESC;FMTTYPE=text/html:Stammesabend
END:VEVENT
END:VCALENDAR
