BEGIN:VCALENDAR
PRODID:-//dvv-bw.de//dvv.Portalplattform//DE
VERSION:2.0
METHOD:PUBLISH
BEGIN:VEVENT
DTSTART:20261013T170000Z
DTEND:20261013T190000Z
DTSTAMP:20260424T212525Z
UID:4365782-4004971-1791842400000
SUMMARY:Vereinsterminbesprechung
LOCATION:Sportheim Heiligenzimmern\, Rotenbühl 1\, 72348 Rosenfeld
DESCRIPTION:Vereinsterminbesprechung
CLASS:PUBLIC
X-ALT-DESC;FMTTYPE=text/html:Vereinsterminbesprechung
END:VEVENT
END:VCALENDAR
