BEGIN:VCALENDAR
PRODID:-//dvv-bw.de//dvv.Portalplattform//DE
VERSION:2.0
METHOD:PUBLISH
BEGIN:VEVENT
DTSTART:20261001T220000Z
DTEND:20261001T220000Z
DTSTAMP:20260424T131516Z
UID:4365779-1713396-1790892000000
SUMMARY:Wanderung
LOCATION:72348 Rosenfeld-Heiligenzimmern
DESCRIPTION:Wanderung
CLASS:PUBLIC
X-ALT-DESC;FMTTYPE=text/html:Wanderung
END:VEVENT
END:VCALENDAR
