BEGIN:VCALENDAR
PRODID:-//dvv-bw.de//dvv.Portalplattform//DE
VERSION:2.0
METHOD:PUBLISH
BEGIN:VEVENT
DTSTART:20261226T230000Z
DTEND:20261226T230000Z
DTSTAMP:20260424T151539Z
UID:4505658-4505558-1798326000000
SUMMARY:Wanderung zwischen den Jahren
DESCRIPTION:Wanderung zwischen den Jahren
CLASS:PUBLIC
X-ALT-DESC;FMTTYPE=text/html:Wanderung zwischen den Jahren
END:VEVENT
END:VCALENDAR
