BEGIN:VCALENDAR
PRODID:-//dvv-bw.de//dvv.Portalplattform//DE
VERSION:2.0
METHOD:PUBLISH
BEGIN:VEVENT
DTSTART:20260514T080000Z
DTEND:20260514T100000Z
DTSTAMP:20260424T162503Z
UID:4198659-1713395-1778709600000
SUMMARY:Weinbrunnenfest
LOCATION:Dorfplatz 72348 Rosenfeld-Heiligenzimmern
DESCRIPTION:Weinbrunnenfest
CLASS:PUBLIC
X-ALT-DESC;FMTTYPE=text/html:Weinbrunnenfest
END:VEVENT
END:VCALENDAR
